BEGIN:VCALENDAR
VERSION:2.0
PRODID:-//Infant Crisis Services - ECPv6.15.20//NONSGML v1.0//EN
CALSCALE:GREGORIAN
METHOD:PUBLISH
X-WR-CALNAME:Infant Crisis Services
X-ORIGINAL-URL:https://www.infantcrisis.org/?lang=es
X-WR-CALDESC:Eventos para Infant Crisis Services
REFRESH-INTERVAL;VALUE=DURATION:PT1H
X-Robots-Tag:noindex
X-PUBLISHED-TTL:PT1H
BEGIN:VTIMEZONE
TZID:America/Chicago
BEGIN:DAYLIGHT
TZOFFSETFROM:-0600
TZOFFSETTO:-0500
TZNAME:CDT
DTSTART:20250309T080000
END:DAYLIGHT
BEGIN:STANDARD
TZOFFSETFROM:-0500
TZOFFSETTO:-0600
TZNAME:CST
DTSTART:20251102T070000
END:STANDARD
BEGIN:DAYLIGHT
TZOFFSETFROM:-0600
TZOFFSETTO:-0500
TZNAME:CDT
DTSTART:20260308T080000
END:DAYLIGHT
BEGIN:STANDARD
TZOFFSETFROM:-0500
TZOFFSETTO:-0600
TZNAME:CST
DTSTART:20261101T070000
END:STANDARD
BEGIN:DAYLIGHT
TZOFFSETFROM:-0600
TZOFFSETTO:-0500
TZNAME:CDT
DTSTART:20270314T080000
END:DAYLIGHT
BEGIN:STANDARD
TZOFFSETFROM:-0500
TZOFFSETTO:-0600
TZNAME:CST
DTSTART:20271107T070000
END:STANDARD
END:VTIMEZONE
BEGIN:VEVENT
DTSTART;TZID=America/Chicago:20260402T100000
DTEND;TZID=America/Chicago:20260402T140000
DTSTAMP:20260420T031615
CREATED:20260324T165824Z
LAST-MODIFIED:20260324T165824Z
UID:10003901-1775124000-1775138400@www.infantcrisis.org
SUMMARY:Centro de patrimonio de Duncan Chisholm Trail
DESCRIPTION:
URL:https://www.infantcrisis.org/event/centro-de-patrimonio-de-duncan-chisholm-trail-5/?lang=es
LOCATION:Centro de patrimonio de Duncan Chisholm Trail\, 2150 Chisholm Trail prkwy\, Duncan\, OK\, 73533\, United States
CATEGORIES:BabyMobile
END:VEVENT
BEGIN:VEVENT
DTSTART;TZID=America/Chicago:20260402T100000
DTEND;TZID=America/Chicago:20260402T140000
DTSTAMP:20260420T031615
CREATED:20260324T165942Z
LAST-MODIFIED:20260324T165942Z
UID:10003903-1775124000-1775138400@www.infantcrisis.org
SUMMARY:Iglesia comunitaria cristiana de Ardmore
DESCRIPTION:
URL:https://www.infantcrisis.org/event/iglesia-comunitaria-cristiana-de-ardmore-7/?lang=es
LOCATION:Iglesia comunitaria cristiana de Ardmore\, 2620 mt Washington rd.\, Ardmore\, 73401\, United States
CATEGORIES:BabyMobile
END:VEVENT
END:VCALENDAR